BEGIN:VCALENDAR
VERSION:2.0
PRODID:-//Bridlewood PTA - ECPv6.15.20//NONSGML v1.0//EN
CALSCALE:GREGORIAN
METHOD:PUBLISH
X-WR-CALNAME:Bridlewood PTA
X-ORIGINAL-URL:https://bridlewoodpta.org
X-WR-CALDESC:Events for Bridlewood PTA
REFRESH-INTERVAL;VALUE=DURATION:PT1H
X-Robots-Tag:noindex
X-PUBLISHED-TTL:PT1H
BEGIN:VTIMEZONE
TZID:America/Chicago
BEGIN:DAYLIGHT
TZOFFSETFROM:-0600
TZOFFSETTO:-0500
TZNAME:CDT
DTSTART:20200308T080000
END:DAYLIGHT
BEGIN:STANDARD
TZOFFSETFROM:-0500
TZOFFSETTO:-0600
TZNAME:CST
DTSTART:20201101T070000
END:STANDARD
BEGIN:DAYLIGHT
TZOFFSETFROM:-0600
TZOFFSETTO:-0500
TZNAME:CDT
DTSTART:20210314T080000
END:DAYLIGHT
BEGIN:STANDARD
TZOFFSETFROM:-0500
TZOFFSETTO:-0600
TZNAME:CST
DTSTART:20211107T070000
END:STANDARD
BEGIN:DAYLIGHT
TZOFFSETFROM:-0600
TZOFFSETTO:-0500
TZNAME:CDT
DTSTART:20220313T080000
END:DAYLIGHT
BEGIN:STANDARD
TZOFFSETFROM:-0500
TZOFFSETTO:-0600
TZNAME:CST
DTSTART:20221106T070000
END:STANDARD
END:VTIMEZONE
BEGIN:VEVENT
DTSTART;TZID=America/Chicago:20211207T160000
DTEND;TZID=America/Chicago:20211207T210000
DTSTAMP:20260424T213845
CREATED:20211112T193455Z
LAST-MODIFIED:20211112T193455Z
UID:4634-1638892800-1638910800@bridlewoodpta.org
SUMMARY:Mi Cocina Spirit Night
DESCRIPTION:Flyer
URL:https://bridlewoodpta.org/event/mi-cocina-spirit-night/
LOCATION:Mi Cocina\, 6220 Long Prairie Road\, Flower Mound\, TX\, 75028\, United States
CATEGORIES:Spirit Night
END:VEVENT
BEGIN:VEVENT
DTSTART;TZID=America/Chicago:20211216T180000
DTEND;TZID=America/Chicago:20211216T200000
DTSTAMP:20260424T213845
CREATED:20211203T234805Z
LAST-MODIFIED:20211203T234805Z
UID:4651-1639677600-1639684800@bridlewoodpta.org
SUMMARY:Holiday Movie Night
DESCRIPTION:Please join us for a free family event on Thursday\, December 16th from 6:00-8:00pm. We will be showing Frosty the Snowman on an outdoor screen on the basketball court. Free popcorn and hot cocoa will be served. Bring your own chairs and blankets and bundle up for a fun evening as we prepare to break for the holidays. Please help us with our planning efforts by submitting an RSVP if you plan to attend.
URL:https://bridlewoodpta.org/event/holiday-movie-night/
LOCATION:Bridlewood Elementary\, 4901 Remington Park Dr\, Flower Mound\, TX\, 75028\, United States
CATEGORIES:PTA Events
END:VEVENT
END:VCALENDAR