BEGIN:VCALENDAR
VERSION:2.0
PRODID:-//Bridlewood PTA - ECPv6.15.20//NONSGML v1.0//EN
CALSCALE:GREGORIAN
METHOD:PUBLISH
X-ORIGINAL-URL:https://bridlewoodpta.org
X-WR-CALDESC:Events for Bridlewood PTA
REFRESH-INTERVAL;VALUE=DURATION:PT1H
X-Robots-Tag:noindex
X-PUBLISHED-TTL:PT1H
BEGIN:VTIMEZONE
TZID:America/Chicago
BEGIN:DAYLIGHT
TZOFFSETFROM:-0600
TZOFFSETTO:-0500
TZNAME:CDT
DTSTART:20200308T080000
END:DAYLIGHT
BEGIN:STANDARD
TZOFFSETFROM:-0500
TZOFFSETTO:-0600
TZNAME:CST
DTSTART:20201101T070000
END:STANDARD
BEGIN:DAYLIGHT
TZOFFSETFROM:-0600
TZOFFSETTO:-0500
TZNAME:CDT
DTSTART:20210314T080000
END:DAYLIGHT
BEGIN:STANDARD
TZOFFSETFROM:-0500
TZOFFSETTO:-0600
TZNAME:CST
DTSTART:20211107T070000
END:STANDARD
BEGIN:DAYLIGHT
TZOFFSETFROM:-0600
TZOFFSETTO:-0500
TZNAME:CDT
DTSTART:20220313T080000
END:DAYLIGHT
BEGIN:STANDARD
TZOFFSETFROM:-0500
TZOFFSETTO:-0600
TZNAME:CST
DTSTART:20221106T070000
END:STANDARD
END:VTIMEZONE
BEGIN:VEVENT
DTSTART;TZID=America/Chicago:20211006T071500
DTEND;TZID=America/Chicago:20211006T074500
DTSTAMP:20260424T184605
CREATED:20210917T215643Z
LAST-MODIFIED:20210917T215643Z
UID:4144-1633504500-1633506300@bridlewoodpta.org
SUMMARY:Walk/Bike to School Day
DESCRIPTION:We are excited to celebrate walking/biking to school with our students and families. \nIf you live within walking/biking distance\, we encourage you to participate in this fun event.  Families who are not within walking/biking distance are invited to park at the golf club and walk/bike together that morning.  Stay tuned for more details!
URL:https://bridlewoodpta.org/event/walk-bike-to-school-day/
LOCATION:Bridlewood Elementary\, 4901 Remington Park Dr\, Flower Mound\, TX\, 75028\, United States
CATEGORIES:PTA Events
END:VEVENT
BEGIN:VEVENT
DTSTART;VALUE=DATE:20211025
DTEND;VALUE=DATE:20211030
DTSTAMP:20260424T184605
CREATED:20211025T174131Z
LAST-MODIFIED:20211025T174131Z
UID:4569-1635120000-1635551999@bridlewoodpta.org
SUMMARY:Red Ribbon Week
DESCRIPTION:Monday – Wear Red\nTuesday – Crazy Hair\nWednesday – Silly Socks\nThursday – BES Spirit\nFriday – Costumes
URL:https://bridlewoodpta.org/event/red-ribbon-week/
LOCATION:Bridlewood Elementary\, 4901 Remington Park Dr\, Flower Mound\, TX\, 75028\, United States
CATEGORIES:School Calendar
END:VEVENT
BEGIN:VEVENT
DTSTART;TZID=America/Chicago:20211026T160000
DTEND;TZID=America/Chicago:20211026T220000
DTSTAMP:20260424T184605
CREATED:20211018T181747Z
LAST-MODIFIED:20211018T181900Z
UID:4525-1635264000-1635285600@bridlewoodpta.org
SUMMARY:Texas Roadhouse Spirit Night
DESCRIPTION:Eat out at Texas Roadhouse on October 29th\, 4-10pm. For more information – see flyer HERE.
URL:https://bridlewoodpta.org/event/texas-roadhouse-spirit-night/
LOCATION:Texas Roadhouse\, 3811 Long Prairie Road\, Flower Mound\, TX\, 75028\, United States
CATEGORIES:Spirit Night
END:VEVENT
END:VCALENDAR