BEGIN:VCALENDAR
VERSION:2.0
PRODID:-//Bridlewood PTA - ECPv6.15.20//NONSGML v1.0//EN
CALSCALE:GREGORIAN
METHOD:PUBLISH
X-WR-CALNAME:Bridlewood PTA
X-ORIGINAL-URL:https://bridlewoodpta.org
X-WR-CALDESC:Events for Bridlewood PTA
REFRESH-INTERVAL;VALUE=DURATION:PT1H
X-Robots-Tag:noindex
X-PUBLISHED-TTL:PT1H
BEGIN:VTIMEZONE
TZID:America/Chicago
BEGIN:DAYLIGHT
TZOFFSETFROM:-0600
TZOFFSETTO:-0500
TZNAME:CDT
DTSTART:20230312T080000
END:DAYLIGHT
BEGIN:STANDARD
TZOFFSETFROM:-0500
TZOFFSETTO:-0600
TZNAME:CST
DTSTART:20231105T070000
END:STANDARD
BEGIN:DAYLIGHT
TZOFFSETFROM:-0600
TZOFFSETTO:-0500
TZNAME:CDT
DTSTART:20240310T080000
END:DAYLIGHT
BEGIN:STANDARD
TZOFFSETFROM:-0500
TZOFFSETTO:-0600
TZNAME:CST
DTSTART:20241103T070000
END:STANDARD
BEGIN:DAYLIGHT
TZOFFSETFROM:-0600
TZOFFSETTO:-0500
TZNAME:CDT
DTSTART:20250309T080000
END:DAYLIGHT
BEGIN:STANDARD
TZOFFSETFROM:-0500
TZOFFSETTO:-0600
TZNAME:CST
DTSTART:20251102T070000
END:STANDARD
END:VTIMEZONE
BEGIN:VEVENT
DTSTART;TZID=America/Chicago:20240214T080000
DTEND;TZID=America/Chicago:20240214T150000
DTSTAMP:20260424T213524
CREATED:20240108T142107Z
LAST-MODIFIED:20240108T142107Z
UID:10844-1707897600-1707922800@bridlewoodpta.org
SUMMARY:Valentines Parties
DESCRIPTION:
URL:https://bridlewoodpta.org/event/valentines-parties/
LOCATION:Bridlewood Elementary\, 4901 Remington Park Dr\, Flower Mound\, TX\, 75028\, United States
END:VEVENT
BEGIN:VEVENT
DTSTART;TZID=America/Chicago:20240215T180000
DTEND;TZID=America/Chicago:20240215T190000
DTSTAMP:20260424T213524
CREATED:20240108T142242Z
LAST-MODIFIED:20240108T142242Z
UID:10846-1708020000-1708023600@bridlewoodpta.org
SUMMARY:4th Grade Music Program
DESCRIPTION:
URL:https://bridlewoodpta.org/event/4th-grade-music-program/
LOCATION:Bridlewood Elementary\, 4901 Remington Park Dr\, Flower Mound\, TX\, 75028\, United States
END:VEVENT
BEGIN:VEVENT
DTSTART;TZID=America/Chicago:20240216T073000
DTEND;TZID=America/Chicago:20240216T114500
DTSTAMP:20260424T213524
CREATED:20240108T142343Z
LAST-MODIFIED:20240108T142343Z
UID:10848-1708068600-1708083900@bridlewoodpta.org
SUMMARY:Half Day
DESCRIPTION:School releases at 11:45 am
URL:https://bridlewoodpta.org/event/half-day-2/
LOCATION:Bridlewood Elementary\, 4901 Remington Park Dr\, Flower Mound\, TX\, 75028\, United States
END:VEVENT
BEGIN:VEVENT
DTSTART;VALUE=DATE:20240220
DTEND;VALUE=DATE:20240221
DTSTAMP:20260424T213524
CREATED:20240108T142424Z
LAST-MODIFIED:20240108T142424Z
UID:10850-1708387200-1708473599@bridlewoodpta.org
SUMMARY:No School
DESCRIPTION:
URL:https://bridlewoodpta.org/event/no-school-5/
LOCATION:Bridlewood Elementary\, 4901 Remington Park Dr\, Flower Mound\, TX\, 75028\, United States
END:VEVENT
BEGIN:VEVENT
DTSTART;TZID=America/Chicago:20240229T173000
DTEND;TZID=America/Chicago:20240229T190000
DTSTAMP:20260424T213524
CREATED:20240108T142654Z
LAST-MODIFIED:20240108T142654Z
UID:10852-1709227800-1709233200@bridlewoodpta.org
SUMMARY:STEM Night
DESCRIPTION:Join the PTA for a FUN filled night of STEM Activities
URL:https://bridlewoodpta.org/event/stem-night/
LOCATION:Bridlewood Elementary\, 4901 Remington Park Dr\, Flower Mound\, TX\, 75028\, United States
END:VEVENT
BEGIN:VEVENT
DTSTART;VALUE=DATE:20240301
DTEND;VALUE=DATE:20240302
DTSTAMP:20260424T213524
CREATED:20240108T142754Z
LAST-MODIFIED:20240108T142754Z
UID:10854-1709251200-1709337599@bridlewoodpta.org
SUMMARY:Read Across Bridlewood
DESCRIPTION:
URL:https://bridlewoodpta.org/event/read-across-bridlewood/
LOCATION:Bridlewood Elementary\, 4901 Remington Park Dr\, Flower Mound\, TX\, 75028\, United States
END:VEVENT
BEGIN:VEVENT
DTSTART;VALUE=DATE:20240304
DTEND;VALUE=DATE:20240308
DTSTAMP:20260424T213524
CREATED:20240108T142954Z
LAST-MODIFIED:20240108T142954Z
UID:10856-1709510400-1709855999@bridlewoodpta.org
SUMMARY:Book Fair Week
DESCRIPTION:Book Fair all week. Schedules will be sent out with when each class or join your child any day this week for lunch and shop together.
URL:https://bridlewoodpta.org/event/book-fair-week/
LOCATION:Bridlewood Elementary\, 4901 Remington Park Dr\, Flower Mound\, TX\, 75028\, United States
END:VEVENT
BEGIN:VEVENT
DTSTART;TZID=America/Chicago:20240307T173000
DTEND;TZID=America/Chicago:20240307T190000
DTSTAMP:20260424T213524
CREATED:20240108T143108Z
LAST-MODIFIED:20240108T143108Z
UID:10858-1709832600-1709838000@bridlewoodpta.org
SUMMARY:Open House and Art Show
DESCRIPTION:
URL:https://bridlewoodpta.org/event/open-house-and-art-show/
LOCATION:Bridlewood Elementary\, 4901 Remington Park Dr\, Flower Mound\, TX\, 75028\, United States
END:VEVENT
BEGIN:VEVENT
DTSTART;VALUE=DATE:20240308
DTEND;VALUE=DATE:20240309
DTSTAMP:20260424T213524
CREATED:20240108T143154Z
LAST-MODIFIED:20240108T143154Z
UID:10860-1709856000-1709942399@bridlewoodpta.org
SUMMARY:Half Day
DESCRIPTION:School releases at 11:45 am
URL:https://bridlewoodpta.org/event/half-day-3/
LOCATION:TX
END:VEVENT
BEGIN:VEVENT
DTSTART;VALUE=DATE:20240311
DTEND;VALUE=DATE:20240316
DTSTAMP:20260424T213524
CREATED:20240108T143231Z
LAST-MODIFIED:20240108T143231Z
UID:10862-1710115200-1710547199@bridlewoodpta.org
SUMMARY:Spring Break
DESCRIPTION:
URL:https://bridlewoodpta.org/event/spring-break-2/
LOCATION:TX
END:VEVENT
BEGIN:VEVENT
DTSTART;VALUE=DATE:20240318
DTEND;VALUE=DATE:20240319
DTSTAMP:20260424T213524
CREATED:20240108T143651Z
LAST-MODIFIED:20240108T143651Z
UID:10869-1710720000-1710806399@bridlewoodpta.org
SUMMARY:Spirit Day: Chick-fil-A
DESCRIPTION:
URL:https://bridlewoodpta.org/event/spirit-day-chick-fil-a/
LOCATION:Chick-fil-a Justin Rd\, 2001 Justin Road\, Flower Mound\, TX\, 75028\, United States
END:VEVENT
BEGIN:VEVENT
DTSTART;TZID=America/Chicago:20240405T173000
DTEND;TZID=America/Chicago:20240405T190000
DTSTAMP:20260424T213524
CREATED:20240329T141824Z
LAST-MODIFIED:20240329T141824Z
UID:10996-1712338200-1712343600@bridlewoodpta.org
SUMMARY:Glow Dance
DESCRIPTION:
URL:https://bridlewoodpta.org/event/glow-dance/
LOCATION:Bridlewood Elementary\, 4901 Remington Park Dr\, Flower Mound\, TX\, 75028\, United States
CATEGORIES:PTA Events
END:VEVENT
BEGIN:VEVENT
DTSTART;TZID=America/Chicago:20240423T160000
DTEND;TZID=America/Chicago:20240423T200000
DTSTAMP:20260424T213524
CREATED:20240108T143803Z
LAST-MODIFIED:20240329T141737Z
UID:10871-1713888000-1713902400@bridlewoodpta.org
SUMMARY:Spirit Night: Texas Roadhouse
DESCRIPTION:
URL:https://bridlewoodpta.org/event/spirit-night-mcallisters-deli-407/
LOCATION:TX
END:VEVENT
BEGIN:VEVENT
DTSTART;TZID=America/Chicago:20240425T080000
DTEND;TZID=America/Chicago:20240425T150000
DTSTAMP:20260424T213524
CREATED:20240329T141918Z
LAST-MODIFIED:20240329T141918Z
UID:10998-1714032000-1714057200@bridlewoodpta.org
SUMMARY:Field Day
DESCRIPTION:
URL:https://bridlewoodpta.org/event/field-day-2/
LOCATION:Bridlewood Elementary\, 4901 Remington Park Dr\, Flower Mound\, TX\, 75028\, United States
CATEGORIES:School Calendar
END:VEVENT
BEGIN:VEVENT
DTSTART;TZID=America/Chicago:20240515T150000
DTEND;TZID=America/Chicago:20240515T200000
DTSTAMP:20260424T213524
CREATED:20240108T143904Z
LAST-MODIFIED:20240108T143904Z
UID:10873-1715785200-1715803200@bridlewoodpta.org
SUMMARY:Spirit Night: Handels
DESCRIPTION:
URL:https://bridlewoodpta.org/event/spirit-night-handels/
LOCATION:TX
END:VEVENT
BEGIN:VEVENT
DTSTART;TZID=America/Chicago:20240522T080000
DTEND;TZID=America/Chicago:20240522T150000
DTSTAMP:20260424T213524
CREATED:20240329T142004Z
LAST-MODIFIED:20240329T142004Z
UID:11000-1716364800-1716390000@bridlewoodpta.org
SUMMARY:End of Year Party
DESCRIPTION:
URL:https://bridlewoodpta.org/event/end-of-year-party/
LOCATION:Bridlewood Elementary\, 4901 Remington Park Dr\, Flower Mound\, TX\, 75028\, United States
CATEGORIES:School Calendar
END:VEVENT
BEGIN:VEVENT
DTSTART;TZID=America/Chicago:20240723T090000
DTEND;TZID=America/Chicago:20240723T100000
DTSTAMP:20260424T213524
CREATED:20240630T142446Z
LAST-MODIFIED:20240630T142446Z
UID:12019-1721725200-1721728800@bridlewoodpta.org
SUMMARY:Popsicles with the Principals
DESCRIPTION:Come out to the BES Playground and enjoy popsicles with our Principals and play with friends.
URL:https://bridlewoodpta.org/event/popsicles-with-the-principals/
LOCATION:Bridlewood Elementary\, 4901 Remington Park Dr\, Flower Mound\, TX\, 75028\, United States
CATEGORIES:PTA Events
END:VEVENT
BEGIN:VEVENT
DTSTART;TZID=America/Chicago:20240731T090000
DTEND;TZID=America/Chicago:20240731T100000
DTSTAMP:20260424T213524
CREATED:20240630T142542Z
LAST-MODIFIED:20240630T142542Z
UID:12021-1722416400-1722420000@bridlewoodpta.org
SUMMARY:Popsicles with the Principals
DESCRIPTION:Come out to the BES Playground and enjoy popsicles with our Principals and play with friends.
URL:https://bridlewoodpta.org/event/popsicles-with-the-principals-2/
LOCATION:Bridlewood Elementary\, 4901 Remington Park Dr\, Flower Mound\, TX\, 75028\, United States
CATEGORIES:PTA Events
END:VEVENT
BEGIN:VEVENT
DTSTART;TZID=America/Chicago:20240809T143000
DTEND;TZID=America/Chicago:20240809T153000
DTSTAMP:20260424T213524
CREATED:20240630T142724Z
LAST-MODIFIED:20240630T142724Z
UID:12023-1723213800-1723217400@bridlewoodpta.org
SUMMARY:Kindergarten Orientation
DESCRIPTION:Come out and learn about kindergarten routine. Parents only please
URL:https://bridlewoodpta.org/event/kindergarten-orientation/
LOCATION:Bridlewood Elementary\, 4901 Remington Park Dr\, Flower Mound\, TX\, 75028\, United States
END:VEVENT
BEGIN:VEVENT
DTSTART;TZID=America/Chicago:20240810T100000
DTEND;TZID=America/Chicago:20240810T120000
DTSTAMP:20260424T213524
CREATED:20240630T143437Z
LAST-MODIFIED:20240806T174313Z
UID:12029-1723284000-1723291200@bridlewoodpta.org
SUMMARY:Back to school party
DESCRIPTION:Pick up your spirit wear\, learn about girl scouts\, cub scouts\, watch dog dads\, voluteer opportunities and more. Crafts\, music\, games and fun for the kids. Enjoy a free sweet treat for all PTA members.
URL:https://bridlewoodpta.org/event/back-to-school-party/
LOCATION:Bridlewood Elementary\, 4901 Remington Park Dr\, Flower Mound\, TX\, 75028\, United States
CATEGORIES:PTA Events
END:VEVENT
BEGIN:VEVENT
DTSTART;TZID=America/Chicago:20240812T080000
DTEND;TZID=America/Chicago:20240812T093000
DTSTAMP:20260424T213524
CREATED:20240630T142845Z
LAST-MODIFIED:20240630T142845Z
UID:12025-1723449600-1723455000@bridlewoodpta.org
SUMMARY:Meet the Teacher
DESCRIPTION:Grades 1st-5th Meet the Teacher
URL:https://bridlewoodpta.org/event/meet-the-teacher-2/
LOCATION:Bridlewood Elementary\, 4901 Remington Park Dr\, Flower Mound\, TX\, 75028\, United States
END:VEVENT
BEGIN:VEVENT
DTSTART;TZID=America/Chicago:20240813T071500
DTEND;TZID=America/Chicago:20240813T152500
DTSTAMP:20260424T213524
CREATED:20240630T143620Z
LAST-MODIFIED:20240630T143620Z
UID:12031-1723533300-1723562700@bridlewoodpta.org
SUMMARY:First Day of School
DESCRIPTION:
URL:https://bridlewoodpta.org/event/first-day-of-school-4/
LOCATION:Bridlewood Elementary\, 4901 Remington Park Dr\, Flower Mound\, TX\, 75028\, United States
END:VEVENT
BEGIN:VEVENT
DTSTART;TZID=America/Chicago:20240814T170000
DTEND;TZID=America/Chicago:20240814T180000
DTSTAMP:20260424T213524
CREATED:20240630T143758Z
LAST-MODIFIED:20240630T143758Z
UID:12033-1723654800-1723658400@bridlewoodpta.org
SUMMARY:1st grade Meet the Teacher
DESCRIPTION:BES Cafeteria
URL:https://bridlewoodpta.org/event/1st-grade-meet-the-teacher/
LOCATION:Bridlewood Elementary\, 4901 Remington Park Dr\, Flower Mound\, TX\, 75028\, United States
END:VEVENT
BEGIN:VEVENT
DTSTART;TZID=America/Chicago:20240814T170000
DTEND;TZID=America/Chicago:20240814T180000
DTSTAMP:20260424T213524
CREATED:20240630T143838Z
LAST-MODIFIED:20240630T143838Z
UID:12035-1723654800-1723658400@bridlewoodpta.org
SUMMARY:2nd Grade Meet the Teacher
DESCRIPTION:BES Gym
URL:https://bridlewoodpta.org/event/2nd-grade-meet-the-teacher/
LOCATION:Bridlewood Elementary\, 4901 Remington Park Dr\, Flower Mound\, TX\, 75028\, United States
END:VEVENT
BEGIN:VEVENT
DTSTART;TZID=America/Chicago:20240815T170000
DTEND;TZID=America/Chicago:20240815T180000
DTSTAMP:20260424T213524
CREATED:20240630T143932Z
LAST-MODIFIED:20240630T143932Z
UID:12037-1723741200-1723744800@bridlewoodpta.org
SUMMARY:3rd Grade Meet the Teacher
DESCRIPTION:BES Cafeteria
URL:https://bridlewoodpta.org/event/3rd-grade-meet-the-teacher/
LOCATION:Bridlewood Elementary\, 4901 Remington Park Dr\, Flower Mound\, TX\, 75028\, United States
END:VEVENT
BEGIN:VEVENT
DTSTART;TZID=America/Chicago:20240815T170000
DTEND;TZID=America/Chicago:20240815T180000
DTSTAMP:20260424T213524
CREATED:20240630T144013Z
LAST-MODIFIED:20240630T144132Z
UID:12039-1723741200-1723744800@bridlewoodpta.org
SUMMARY:4th Grade Meet the Teacher
DESCRIPTION:BES Gym
URL:https://bridlewoodpta.org/event/4th-grade-meet-the-teacher/
LOCATION:Bridlewood Elementary\, 4901 Remington Park Dr\, Flower Mound\, TX\, 75028\, United States
END:VEVENT
BEGIN:VEVENT
DTSTART;TZID=America/Chicago:20240815T180000
DTEND;TZID=America/Chicago:20240815T190000
DTSTAMP:20260424T213524
CREATED:20240630T144107Z
LAST-MODIFIED:20240630T144107Z
UID:12041-1723744800-1723748400@bridlewoodpta.org
SUMMARY:5th Grade Meet the Teacher
DESCRIPTION:BES Cafeteria
URL:https://bridlewoodpta.org/event/5th-grade-meet-the-teacher/
LOCATION:Bridlewood Elementary\, 4901 Remington Park Dr\, Flower Mound\, TX\, 75028\, United States
END:VEVENT
BEGIN:VEVENT
DTSTART;TZID=America/Chicago:20240819T071500
DTEND;TZID=America/Chicago:20240819T074500
DTSTAMP:20260424T213524
CREATED:20240630T143013Z
LAST-MODIFIED:20240630T143013Z
UID:12027-1724051700-1724053500@bridlewoodpta.org
SUMMARY:Kinder Meet the Teacher
DESCRIPTION:After Kinder Camp is complete and classes are selected\, parents can come in and meet their child’s kindergarten teacher
URL:https://bridlewoodpta.org/event/kinder-meet-the-teacher/
LOCATION:Bridlewood Elementary\, 4901 Remington Park Dr\, Flower Mound\, TX\, 75028\, United States
END:VEVENT
BEGIN:VEVENT
DTSTART;TZID=America/Chicago:20240829T183000
DTEND;TZID=America/Chicago:20240829T193000
DTSTAMP:20260424T213524
CREATED:20240630T144335Z
LAST-MODIFIED:20240630T144335Z
UID:12043-1724956200-1724959800@bridlewoodpta.org
SUMMARY:Regular PTA Meeting
DESCRIPTION:Childcare provided
URL:https://bridlewoodpta.org/event/regular-pta-meeting-2/
LOCATION:Bridlewood Elementary\, 4901 Remington Park Dr\, Flower Mound\, TX\, 75028\, United States
END:VEVENT
BEGIN:VEVENT
DTSTART;VALUE=DATE:20240916
DTEND;VALUE=DATE:20240921
DTSTAMP:20260424T213524
CREATED:20240914T125846Z
LAST-MODIFIED:20240914T125846Z
UID:14011-1726444800-1726876799@bridlewoodpta.org
SUMMARY:Kindness Week
DESCRIPTION:
URL:https://bridlewoodpta.org/event/kindness-week/
LOCATION:TX
END:VEVENT
END:VCALENDAR