BEGIN:VCALENDAR
VERSION:2.0
PRODID:-//Bridlewood PTA - ECPv6.15.20//NONSGML v1.0//EN
CALSCALE:GREGORIAN
METHOD:PUBLISH
X-ORIGINAL-URL:https://bridlewoodpta.org
X-WR-CALDESC:Events for Bridlewood PTA
REFRESH-INTERVAL;VALUE=DURATION:PT1H
X-Robots-Tag:noindex
X-PUBLISHED-TTL:PT1H
BEGIN:VTIMEZONE
TZID:America/Chicago
BEGIN:DAYLIGHT
TZOFFSETFROM:-0600
TZOFFSETTO:-0500
TZNAME:CDT
DTSTART:20210314T080000
END:DAYLIGHT
BEGIN:STANDARD
TZOFFSETFROM:-0500
TZOFFSETTO:-0600
TZNAME:CST
DTSTART:20211107T070000
END:STANDARD
BEGIN:DAYLIGHT
TZOFFSETFROM:-0600
TZOFFSETTO:-0500
TZNAME:CDT
DTSTART:20220313T080000
END:DAYLIGHT
BEGIN:STANDARD
TZOFFSETFROM:-0500
TZOFFSETTO:-0600
TZNAME:CST
DTSTART:20221106T070000
END:STANDARD
BEGIN:DAYLIGHT
TZOFFSETFROM:-0600
TZOFFSETTO:-0500
TZNAME:CDT
DTSTART:20230312T080000
END:DAYLIGHT
BEGIN:STANDARD
TZOFFSETFROM:-0500
TZOFFSETTO:-0600
TZNAME:CST
DTSTART:20231105T070000
END:STANDARD
BEGIN:DAYLIGHT
TZOFFSETFROM:-0600
TZOFFSETTO:-0500
TZNAME:CDT
DTSTART:20240310T080000
END:DAYLIGHT
BEGIN:STANDARD
TZOFFSETFROM:-0500
TZOFFSETTO:-0600
TZNAME:CST
DTSTART:20241103T070000
END:STANDARD
END:VTIMEZONE
BEGIN:VEVENT
DTSTART;TZID=America/Chicago:20220824T183000
DTEND;TZID=America/Chicago:20220824T210000
DTSTAMP:20260424T171430
CREATED:20220708T032137Z
LAST-MODIFIED:20220828T134313Z
UID:5938-1661365800-1661374800@bridlewoodpta.org
SUMMARY:General Membership PTA Meeting
DESCRIPTION:
URL:https://bridlewoodpta.org/event/general-membership-meeting/
LOCATION:Bridlewood Elementary\, 4901 Remington Park Dr\, Flower Mound\, TX\, 75028\, United States
CATEGORIES:PTA Membership
END:VEVENT
BEGIN:VEVENT
DTSTART;TZID=America/Chicago:20220902T074500
DTEND;TZID=America/Chicago:20220902T114500
DTSTAMP:20260424T171430
CREATED:20220708T033823Z
LAST-MODIFIED:20220828T134244Z
UID:5940-1662104700-1662119100@bridlewoodpta.org
SUMMARY:Early Release
DESCRIPTION:
URL:https://bridlewoodpta.org/event/school-half-day/
LOCATION:Bridlewood Elementary\, 4901 Remington Park Dr\, Flower Mound\, TX\, 75028\, United States
CATEGORIES:School Calendar
END:VEVENT
BEGIN:VEVENT
DTSTART;VALUE=DATE:20220905
DTEND;VALUE=DATE:20220906
DTSTAMP:20260424T171430
CREATED:20220708T033902Z
LAST-MODIFIED:20220828T134244Z
UID:5942-1662336000-1662422399@bridlewoodpta.org
SUMMARY:School Holiday - No School
DESCRIPTION:
URL:https://bridlewoodpta.org/event/no-school/
LOCATION:Bridlewood Elementary\, 4901 Remington Park Dr\, Flower Mound\, TX\, 75028\, United States
CATEGORIES:School Calendar
END:VEVENT
BEGIN:VEVENT
DTSTART;VALUE=DATE:20220912
DTEND;VALUE=DATE:20220916
DTSTAMP:20260424T171430
CREATED:20220708T033935Z
LAST-MODIFIED:20220828T134538Z
UID:5944-1662940800-1663286399@bridlewoodpta.org
SUMMARY:Fall Book Fair
DESCRIPTION:Get your e-wallet set up now! \n  \nhttps://bookfairs.scholastic.com/bf/bridlewoodes2
URL:https://bridlewoodpta.org/event/fall-book-fair-2/
LOCATION:Bridlewood Elementary\, 4901 Remington Park Dr\, Flower Mound\, TX\, 75028\, United States
CATEGORIES:PTA Events
END:VEVENT
BEGIN:VEVENT
DTSTART;TZID=America/Chicago:20220915T071500
DTEND;TZID=America/Chicago:20220915T074500
DTSTAMP:20260424T171430
CREATED:20220828T135738Z
LAST-MODIFIED:20220828T135738Z
UID:6773-1663226100-1663227900@bridlewoodpta.org
SUMMARY:Watch D.O.G.S. Kick Off - Donuts AM
DESCRIPTION:Come join the Watch D.O.G.S. for donuts and get access to early sign up. \n  \nDon’t forget you have to be VOLY approved to participate.  Why wait\, sign up today!  LISD Volunteer Portal
URL:https://bridlewoodpta.org/event/watch-d-o-g-s-kick-off-donuts-am/
LOCATION:Bridlewood Elementary\, 4901 Remington Park Dr\, Flower Mound\, TX\, 75028\, United States
CATEGORIES:PTA Events
END:VEVENT
BEGIN:VEVENT
DTSTART;TZID=America/Chicago:20220915T173000
DTEND;TZID=America/Chicago:20220915T183000
DTSTAMP:20260424T171430
CREATED:20220828T135841Z
LAST-MODIFIED:20220828T140223Z
UID:6776-1663263000-1663266600@bridlewoodpta.org
SUMMARY:Watch D.O.G.S. Kick off - Pizza PM
DESCRIPTION:Come join the Watch D.O.G.S. for donuts and get access to early sign up. \n  \nDon’t forget you have to be VOLY approved to participate.  Why wait\, sign up today!  LISD Volunteer Portal
URL:https://bridlewoodpta.org/event/watch-d-o-g-s-kick-off-pizza-pm/
LOCATION:Bridlewood Elementary\, 4901 Remington Park Dr\, Flower Mound\, TX\, 75028\, United States
CATEGORIES:PTA Events
END:VEVENT
BEGIN:VEVENT
DTSTART;TZID=America/Chicago:20221007T074500
DTEND;TZID=America/Chicago:20221007T114500
DTSTAMP:20260424T171430
CREATED:20220708T043532Z
LAST-MODIFIED:20220828T134244Z
UID:5948-1665128700-1665143100@bridlewoodpta.org
SUMMARY:Early Release
DESCRIPTION:
URL:https://bridlewoodpta.org/event/half-day-of-school/
LOCATION:Bridlewood Elementary\, 4901 Remington Park Dr\, Flower Mound\, TX\, 75028\, United States
CATEGORIES:School Calendar
END:VEVENT
BEGIN:VEVENT
DTSTART;VALUE=DATE:20221010
DTEND;VALUE=DATE:20221011
DTSTAMP:20260424T171430
CREATED:20220708T043602Z
LAST-MODIFIED:20220828T134244Z
UID:5950-1665360000-1665446399@bridlewoodpta.org
SUMMARY:School Holiday - No School
DESCRIPTION:
URL:https://bridlewoodpta.org/event/no-school-2/
LOCATION:Bridlewood Elementary\, 4901 Remington Park Dr\, Flower Mound\, TX\, 75028\, United States
CATEGORIES:School Calendar
END:VEVENT
BEGIN:VEVENT
DTSTART;TZID=America/Chicago:20221012T070000
DTEND;TZID=America/Chicago:20221012T074500
DTSTAMP:20260424T171430
CREATED:20220708T041639Z
LAST-MODIFIED:20221002T221528Z
UID:5946-1665558000-1665560700@bridlewoodpta.org
SUMMARY:Bike / Walk to School
DESCRIPTION:
URL:https://bridlewoodpta.org/event/bike-walk-to-school/
LOCATION:Bridlewood Elementary\, 4901 Remington Park Dr\, Flower Mound\, TX\, 75028\, United States
CATEGORIES:PTA Events
END:VEVENT
BEGIN:VEVENT
DTSTART;TZID=America/Chicago:20221014T074500
DTEND;TZID=America/Chicago:20221014T114500
DTSTAMP:20260424T171430
CREATED:20220708T043644Z
LAST-MODIFIED:20220828T134244Z
UID:5952-1665733500-1665747900@bridlewoodpta.org
SUMMARY:Early Release
DESCRIPTION:
URL:https://bridlewoodpta.org/event/half-day-of-school-2/
LOCATION:Bridlewood Elementary\, 4901 Remington Park Dr\, Flower Mound\, TX\, 75028\, United States
CATEGORIES:School Calendar
END:VEVENT
BEGIN:VEVENT
DTSTART;TZID=America/Chicago:20221022T150000
DTEND;TZID=America/Chicago:20221022T180000
DTSTAMP:20260424T171430
CREATED:20210917T215915Z
LAST-MODIFIED:20220915T223027Z
UID:4147-1666450800-1666461600@bridlewoodpta.org
SUMMARY:Bronco Bash
DESCRIPTION:7th Annual Bronco Bash brought to you by Ashley Hart\, Realtor® – Magnolia Realty Argyle \nMORE INFO
URL:https://bridlewoodpta.org/event/bronco-bash/
LOCATION:Bridlewood Elementary\, 4901 Remington Park Dr\, Flower Mound\, TX\, 75028\, United States
CATEGORIES:PTA Events
ATTACH;FMTTYPE=image/jpeg:https://bridlewoodpta.org/wp-content/uploads/2021/09/Logo-without-background1.jpg
END:VEVENT
BEGIN:VEVENT
DTSTART;TZID=America/Chicago:20221117T181500
DTEND;TZID=America/Chicago:20221117T184500
DTSTAMP:20260424T171430
CREATED:20221117T175538Z
LAST-MODIFIED:20221117T182151Z
UID:7177-1668708900-1668710700@bridlewoodpta.org
SUMMARY:General Membership Meeting
DESCRIPTION:Please join us to discuss budget amendments for our income and spending plans for the rest of the year.
URL:https://bridlewoodpta.org/event/special-membership-meeting/
LOCATION:Bridlewood Elementary\, 4901 Remington Park Dr\, Flower Mound\, TX\, 75028\, United States
CATEGORIES:PTA Membership
END:VEVENT
BEGIN:VEVENT
DTSTART;TZID=America/Chicago:20221118T071500
DTEND;TZID=America/Chicago:20221118T074500
DTSTAMP:20260424T171430
CREATED:20221117T180557Z
LAST-MODIFIED:20221117T180557Z
UID:7195-1668755700-1668757500@bridlewoodpta.org
SUMMARY:Watch D.O.G.S. Donuts with D.O.G.S.
DESCRIPTION:Join the best dads in Flower Mound for donuts and fellowship and ask any questions you have about the program.
URL:https://bridlewoodpta.org/event/watch-d-o-g-s-donuts-with-d-o-g-s/
LOCATION:Bridlewood Elementary\, 4901 Remington Park Dr\, Flower Mound\, TX\, 75028\, United States
END:VEVENT
BEGIN:VEVENT
DTSTART;VALUE=DATE:20221121
DTEND;VALUE=DATE:20221126
DTSTAMP:20260424T171430
CREATED:20221117T175710Z
LAST-MODIFIED:20221117T175710Z
UID:7179-1668988800-1669420799@bridlewoodpta.org
SUMMARY:Holiday Break
DESCRIPTION:No school the week of Thanksgiving!
URL:https://bridlewoodpta.org/event/holiday-break/
LOCATION:TX
END:VEVENT
BEGIN:VEVENT
DTSTART;VALUE=DATE:20221204
DTEND;VALUE=DATE:20221211
DTSTAMP:20260424T171430
CREATED:20221117T182110Z
LAST-MODIFIED:20221117T182110Z
UID:7203-1670112000-1670716799@bridlewoodpta.org
SUMMARY:Spirit Week @ Five Below
DESCRIPTION:Information will go home in your students backpack before the event.
URL:https://bridlewoodpta.org/event/spirit-week-five-below/
LOCATION:Five Blow\, 5801 Long Prairie Road\, Flower Mound\, TX\, 75028\, United States
CATEGORIES:PTA Events,Spirit Night
END:VEVENT
BEGIN:VEVENT
DTSTART;TZID=America/Chicago:20221215T173000
DTEND;TZID=America/Chicago:20221215T190000
DTSTAMP:20260424T171430
CREATED:20221129T174758Z
LAST-MODIFIED:20221129T174758Z
UID:7210-1671125400-1671130800@bridlewoodpta.org
SUMMARY:Family Movie Night
DESCRIPTION:
URL:https://bridlewoodpta.org/event/family-movie-night/
LOCATION:Bridlewood Elementary\, 4901 Remington Park Dr\, Flower Mound\, TX\, 75028\, United States
CATEGORIES:PTA Events
END:VEVENT
BEGIN:VEVENT
DTSTART;TZID=America/Chicago:20221216T114500
DTEND;TZID=America/Chicago:20221216T120000
DTSTAMP:20260424T171430
CREATED:20221117T175917Z
LAST-MODIFIED:20221117T175917Z
UID:7181-1671191100-1671192000@bridlewoodpta.org
SUMMARY:Early Release
DESCRIPTION:
URL:https://bridlewoodpta.org/event/early-release/
LOCATION:Bridlewood Elementary\, 4901 Remington Park Dr\, Flower Mound\, TX\, 75028\, United States
END:VEVENT
BEGIN:VEVENT
DTSTART;VALUE=DATE:20221219
DTEND;VALUE=DATE:20230105
DTSTAMP:20260424T171430
CREATED:20221117T180001Z
LAST-MODIFIED:20221117T180023Z
UID:7183-1671408000-1672876799@bridlewoodpta.org
SUMMARY:Winter Break
DESCRIPTION:
URL:https://bridlewoodpta.org/event/winter-break/
LOCATION:Bridlewood Elementary\, 4901 Remington Park Dr\, Flower Mound\, TX\, 75028\, United States
END:VEVENT
BEGIN:VEVENT
DTSTART;VALUE=DATE:20230116
DTEND;VALUE=DATE:20230117
DTSTAMP:20260424T171430
CREATED:20221117T180100Z
LAST-MODIFIED:20221117T180100Z
UID:7185-1673827200-1673913599@bridlewoodpta.org
SUMMARY:School Holiday
DESCRIPTION:
URL:https://bridlewoodpta.org/event/school-holiday/
LOCATION:Bridlewood Elementary\, 4901 Remington Park Dr\, Flower Mound\, TX\, 75028\, United States
END:VEVENT
BEGIN:VEVENT
DTSTART;TZID=America/Chicago:20230125T183000
DTEND;TZID=America/Chicago:20230125T193000
DTSTAMP:20260424T171430
CREATED:20230111T202700Z
LAST-MODIFIED:20230111T202700Z
UID:7225-1674671400-1674675000@bridlewoodpta.org
SUMMARY:PTA General Membership Meeting
DESCRIPTION:Please join us at our January general membership meeting in the BES Cafeteria.
URL:https://bridlewoodpta.org/event/pta-general-membership-meeting/
LOCATION:Bridlewood Elementary\, 4901 Remington Park Dr\, Flower Mound\, TX\, 75028\, United States
END:VEVENT
BEGIN:VEVENT
DTSTART;TZID=America/Chicago:20230217T114500
DTEND;TZID=America/Chicago:20230217T120000
DTSTAMP:20260424T171430
CREATED:20221117T180157Z
LAST-MODIFIED:20221117T180157Z
UID:7187-1676634300-1676635200@bridlewoodpta.org
SUMMARY:Early Release
DESCRIPTION:
URL:https://bridlewoodpta.org/event/early-release-2/
LOCATION:Bridlewood Elementary\, 4901 Remington Park Dr\, Flower Mound\, TX\, 75028\, United States
END:VEVENT
BEGIN:VEVENT
DTSTART;VALUE=DATE:20230220
DTEND;VALUE=DATE:20230221
DTSTAMP:20260424T171430
CREATED:20221117T180237Z
LAST-MODIFIED:20221117T180237Z
UID:7189-1676851200-1676937599@bridlewoodpta.org
SUMMARY:School Holiday
DESCRIPTION:
URL:https://bridlewoodpta.org/event/school-holiday-2/
LOCATION:Bridlewood Elementary\, 4901 Remington Park Dr\, Flower Mound\, TX\, 75028\, United States
END:VEVENT
BEGIN:VEVENT
DTSTART;TZID=America/Chicago:20230306T080000
DTEND;TZID=America/Chicago:20230309T150000
DTSTAMP:20260424T171430
CREATED:20230224T043513Z
LAST-MODIFIED:20230224T043513Z
UID:7258-1678089600-1678374000@bridlewoodpta.org
SUMMARY:Spring Book Fair/Scholastic
DESCRIPTION:This year’s Book Fair will be held in the library and open from 8am-3pm\, Monday 3/6 – Thursday 3/9. We will also be open during Open House from 5:30-7pm on Thursday 3/9. Each class will have a set time to visit during school that week to create a wish list and/or shop.  To make money handling easier for your child\, consider creating a Scholastic eWallet here.   We thank you\, in advance\, for supporting this literacy and fundraising event.  Browse NEW book selections for this Spring on the digital flyer here
URL:https://bridlewoodpta.org/event/spring-book-fair-scholastic/
LOCATION:Bridlewood Elementary\, 4901 Remington Park Dr\, Flower Mound\, TX\, 75028\, United States
END:VEVENT
BEGIN:VEVENT
DTSTART;TZID=America/Chicago:20230309T170000
DTEND;TZID=America/Chicago:20230309T183000
DTSTAMP:20260424T171430
CREATED:20230224T090818Z
LAST-MODIFIED:20230302T193059Z
UID:7358-1678381200-1678386600@bridlewoodpta.org
SUMMARY:Family Dinner Night
DESCRIPTION:Join us for In-N-Out Burger.  This event is in conjunction with BES Open House and Book Fair. \nPre-purchase is required\, and tickets will be sold from Friday 2/24/23- Friday 3/3/23. \nEvent will start\, rain or shine\, Thursday March 9th @ 5pm food distribution will end ~6:30pm.
URL:https://bridlewoodpta.org/event/family-dinner-night/
LOCATION:Bridlewood Elementary\, 4901 Remington Park Dr\, Flower Mound\, TX\, 75028\, United States
CATEGORIES:PTA Events
END:VEVENT
BEGIN:VEVENT
DTSTART;TZID=America/Chicago:20230310T114500
DTEND;TZID=America/Chicago:20230310T120000
DTSTAMP:20260424T171430
CREATED:20221117T180328Z
LAST-MODIFIED:20221117T180328Z
UID:7191-1678448700-1678449600@bridlewoodpta.org
SUMMARY:Early Release
DESCRIPTION:
URL:https://bridlewoodpta.org/event/early-release-3/
LOCATION:Bridlewood Elementary\, 4901 Remington Park Dr\, Flower Mound\, TX\, 75028\, United States
END:VEVENT
BEGIN:VEVENT
DTSTART;VALUE=DATE:20230313
DTEND;VALUE=DATE:20230318
DTSTAMP:20260424T171430
CREATED:20221117T180403Z
LAST-MODIFIED:20221117T180403Z
UID:7193-1678665600-1679097599@bridlewoodpta.org
SUMMARY:Spring Break
DESCRIPTION:
URL:https://bridlewoodpta.org/event/spring-break/
LOCATION:Bridlewood Elementary\, 4901 Remington Park Dr\, Flower Mound\, TX\, 75028\, United States
END:VEVENT
BEGIN:VEVENT
DTSTART;TZID=America/Chicago:20230322T183000
DTEND;TZID=America/Chicago:20230322T193000
DTSTAMP:20260424T171430
CREATED:20230224T042900Z
LAST-MODIFIED:20230224T042900Z
UID:7254-1679509800-1679513400@bridlewoodpta.org
SUMMARY:PTA Regular Meeting
DESCRIPTION:Please join us for this years nomination meeting on March 22\, 2023 6:30pm @ BES cafeteria.
URL:https://bridlewoodpta.org/event/pta-regular-meeting/
LOCATION:Bridlewood Elementary\, 4901 Remington Park Dr\, Flower Mound\, TX\, 75028\, United States
CATEGORIES:PTA Events
END:VEVENT
BEGIN:VEVENT
DTSTART;VALUE=DATE:20230407
DTEND;VALUE=DATE:20230408
DTSTAMP:20260424T171430
CREATED:20221117T180744Z
LAST-MODIFIED:20221117T180744Z
UID:7197-1680825600-1680911999@bridlewoodpta.org
SUMMARY:School Holiday
DESCRIPTION:
URL:https://bridlewoodpta.org/event/school-holiday-3/
LOCATION:Bridlewood Elementary\, 4901 Remington Park Dr\, Flower Mound\, TX\, 75028\, United States
END:VEVENT
BEGIN:VEVENT
DTSTART;VALUE=DATE:20230410
DTEND;VALUE=DATE:20230411
DTSTAMP:20260424T171430
CREATED:20221117T180825Z
LAST-MODIFIED:20230224T170421Z
UID:7199-1681084800-1681171199@bridlewoodpta.org
SUMMARY:Bad Weather Day
DESCRIPTION:
URL:https://bridlewoodpta.org/event/bad-weather-day/
LOCATION:Bridlewood Elementary\, 4901 Remington Park Dr\, Flower Mound\, TX\, 75028\, United States
END:VEVENT
BEGIN:VEVENT
DTSTART;TZID=America/Chicago:20230525T114500
DTEND;TZID=America/Chicago:20230525T120000
DTSTAMP:20260424T171430
CREATED:20221117T180950Z
LAST-MODIFIED:20230224T170538Z
UID:7201-1685015100-1685016000@bridlewoodpta.org
SUMMARY:Early Release
DESCRIPTION:
URL:https://bridlewoodpta.org/event/early-release-4/
LOCATION:Bridlewood Elementary\, 4901 Remington Park Dr\, Flower Mound\, TX\, 75028\, United States
END:VEVENT
END:VCALENDAR