BEGIN:VCALENDAR
VERSION:2.0
PRODID:-//Bridlewood PTA - ECPv6.15.20//NONSGML v1.0//EN
CALSCALE:GREGORIAN
METHOD:PUBLISH
X-WR-CALNAME:Bridlewood PTA
X-ORIGINAL-URL:https://bridlewoodpta.org
X-WR-CALDESC:Events for Bridlewood PTA
REFRESH-INTERVAL;VALUE=DURATION:PT1H
X-Robots-Tag:noindex
X-PUBLISHED-TTL:PT1H
BEGIN:VTIMEZONE
TZID:America/Chicago
BEGIN:DAYLIGHT
TZOFFSETFROM:-0600
TZOFFSETTO:-0500
TZNAME:CDT
DTSTART:20190310T080000
END:DAYLIGHT
BEGIN:STANDARD
TZOFFSETFROM:-0500
TZOFFSETTO:-0600
TZNAME:CST
DTSTART:20191103T070000
END:STANDARD
BEGIN:DAYLIGHT
TZOFFSETFROM:-0600
TZOFFSETTO:-0500
TZNAME:CDT
DTSTART:20200308T080000
END:DAYLIGHT
BEGIN:STANDARD
TZOFFSETFROM:-0500
TZOFFSETTO:-0600
TZNAME:CST
DTSTART:20201101T070000
END:STANDARD
BEGIN:DAYLIGHT
TZOFFSETFROM:-0600
TZOFFSETTO:-0500
TZNAME:CDT
DTSTART:20210314T080000
END:DAYLIGHT
BEGIN:STANDARD
TZOFFSETFROM:-0500
TZOFFSETTO:-0600
TZNAME:CST
DTSTART:20211107T070000
END:STANDARD
END:VTIMEZONE
BEGIN:VTIMEZONE
TZID:UTC
BEGIN:STANDARD
TZOFFSETFROM:+0000
TZOFFSETTO:+0000
TZNAME:UTC
DTSTART:20190101T000000
END:STANDARD
END:VTIMEZONE
BEGIN:VEVENT
DTSTART;TZID=America/Chicago:20201112T180000
DTEND;TZID=America/Chicago:20201112T210000
DTSTAMP:20260424T171347
CREATED:20201026T161842Z
LAST-MODIFIED:20201026T161842Z
UID:2206-1605204000-1605214800@bridlewoodpta.org
SUMMARY:Board & Brush Fundraiser
DESCRIPTION:
URL:https://bridlewoodpta.org/event/board-brush-fundraiser/
LOCATION:Board & Brush Highland Village\, 2230 Justin Rd. Suite 220\, Highland Village\, TX\, 75077\, United States
CATEGORIES:PTA Events,Spirit Night
ATTACH;FMTTYPE=image/png:https://bridlewoodpta.org/wp-content/uploads/2020/10/BoardBrush.png
END:VEVENT
BEGIN:VEVENT
DTSTART;VALUE=DATE:20201030
DTEND;VALUE=DATE:20201031
DTSTAMP:20260424T171347
CREATED:20201023T152358Z
LAST-MODIFIED:20201023T152358Z
UID:2199-1604016000-1604102399@bridlewoodpta.org
SUMMARY:Red Ribbon Week - Wear Costumes
DESCRIPTION:*NO Masks that cover the face (except for Covid-19 prevention)\, face paint\, hoods\, or weapons.
URL:https://bridlewoodpta.org/event/red-ribbon-week-wear-costumes/
LOCATION:Bridlewood Elementary\, 4901 Remington Park Dr\, Flower Mound\, TX\, 75028\, United States
CATEGORIES:PTA Events
ATTACH;FMTTYPE=image/png:https://bridlewoodpta.org/wp-content/uploads/2020/10/RRW.png
END:VEVENT
BEGIN:VEVENT
DTSTART;VALUE=DATE:20201029
DTEND;VALUE=DATE:20201030
DTSTAMP:20260424T171347
CREATED:20201023T152211Z
LAST-MODIFIED:20201023T152211Z
UID:2197-1603929600-1604015999@bridlewoodpta.org
SUMMARY:Red Ribbon Week - Crazy Socks
DESCRIPTION:
URL:https://bridlewoodpta.org/event/red-ribbon-week-crazy-socks/
LOCATION:Bridlewood Elementary\, 4901 Remington Park Dr\, Flower Mound\, TX\, 75028\, United States
CATEGORIES:PTA Events
ATTACH;FMTTYPE=image/png:https://bridlewoodpta.org/wp-content/uploads/2020/10/RRW.png
END:VEVENT
BEGIN:VEVENT
DTSTART;VALUE=DATE:20201028
DTEND;VALUE=DATE:20201029
DTSTAMP:20260424T171347
CREATED:20201023T152131Z
LAST-MODIFIED:20201023T152131Z
UID:2195-1603843200-1603929599@bridlewoodpta.org
SUMMARY:Red Ribbon Week - Backwards Clothes
DESCRIPTION:
URL:https://bridlewoodpta.org/event/red-ribbon-week-backwards-clothes/
LOCATION:Bridlewood Elementary\, 4901 Remington Park Dr\, Flower Mound\, TX\, 75028\, United States
CATEGORIES:PTA Events
ATTACH;FMTTYPE=image/png:https://bridlewoodpta.org/wp-content/uploads/2020/10/RRW.png
END:VEVENT
BEGIN:VEVENT
DTSTART;VALUE=DATE:20201027
DTEND;VALUE=DATE:20201028
DTSTAMP:20260424T171347
CREATED:20201023T152040Z
LAST-MODIFIED:20201023T152435Z
UID:2193-1603756800-1603843199@bridlewoodpta.org
SUMMARY:Red Ribbon Week - Spirit Wear
DESCRIPTION:
URL:https://bridlewoodpta.org/event/red-ribbon-week-spirit-wear/
LOCATION:Bridlewood Elementary\, 4901 Remington Park Dr\, Flower Mound\, TX\, 75028\, United States
CATEGORIES:PTA Events
ATTACH;FMTTYPE=image/png:https://bridlewoodpta.org/wp-content/uploads/2020/10/RRW.png
END:VEVENT
BEGIN:VEVENT
DTSTART;VALUE=DATE:20201026
DTEND;VALUE=DATE:20201027
DTSTAMP:20260424T171347
CREATED:20201023T151929Z
LAST-MODIFIED:20201023T152459Z
UID:2191-1603670400-1603756799@bridlewoodpta.org
SUMMARY:Red Ribbon Week - Wear Red
DESCRIPTION:
URL:https://bridlewoodpta.org/event/red-ribbon-week-wear-red/
LOCATION:Bridlewood Elementary\, 4901 Remington Park Dr\, Flower Mound\, TX\, 75028\, United States
CATEGORIES:PTA Events
ATTACH;FMTTYPE=image/png:https://bridlewoodpta.org/wp-content/uploads/2020/10/RRW.png
END:VEVENT
BEGIN:VEVENT
DTSTART;TZID=America/Chicago:20201014T160000
DTEND;TZID=America/Chicago:20201014T200000
DTSTAMP:20260424T171347
CREATED:20201007T145316Z
LAST-MODIFIED:20201007T145316Z
UID:2098-1602691200-1602705600@bridlewoodpta.org
SUMMARY:Torchy's Tacos Spirit Night
DESCRIPTION:
URL:https://bridlewoodpta.org/event/torchys-tacos-spirit-night/
LOCATION:Torchy’s Tacos\, 1601 Village Parkway\, Highland Village\, TX\, 75077\, United States
CATEGORIES:Spirit Night
ATTACH;FMTTYPE=image/jpeg:https://bridlewoodpta.org/wp-content/uploads/2020/10/3dcb6bc27c08a741766afae43b6b2dbced603ab56b783b458fb0709f0d39ded7-rimg-w526-h274-gmir.jpg
END:VEVENT
BEGIN:VEVENT
DTSTART;VALUE=DATE:20201007
DTEND;VALUE=DATE:20201101
DTSTAMP:20260424T171347
CREATED:20201007T145438Z
LAST-MODIFIED:20201007T145438Z
UID:2102-1602028800-1604188799@bridlewoodpta.org
SUMMARY:Scentsy Fundraiser
DESCRIPTION:
URL:https://bridlewoodpta.org/event/scentsy-fundraiser/
LOCATION:Bridlewood Elementary\, 4901 Remington Park Dr\, Flower Mound\, TX\, 75028\, United States
CATEGORIES:Spirit Night
ATTACH;FMTTYPE=image/jpeg:https://bridlewoodpta.org/wp-content/uploads/2020/10/Scentsy-FallFest-FB-Ad-02.jpg
END:VEVENT
BEGIN:VEVENT
DTSTART;TZID=America/Chicago:20200928T160000
DTEND;TZID=America/Chicago:20200928T200000
DTSTAMP:20260424T171347
CREATED:20200910T163838Z
LAST-MODIFIED:20200910T163838Z
UID:2012-1601308800-1601323200@bridlewoodpta.org
SUMMARY:Bahama Bucks Spirit Night
DESCRIPTION:
URL:https://bridlewoodpta.org/event/bahama-bucks-spirit-night/
LOCATION:Bahama Bucks\, 125 Chinn Chapel Rd\, Double Oak\, TX\, 75077\, United States
CATEGORIES:Spirit Night
ATTACH;FMTTYPE=image/png:https://bridlewoodpta.org/wp-content/uploads/2020/09/bucks-copy.png
END:VEVENT
BEGIN:VEVENT
DTSTART;VALUE=DATE:20200922
DTEND;VALUE=DATE:20200923
DTSTAMP:20260424T171347
CREATED:20200618T195057Z
LAST-MODIFIED:20200802T213631Z
UID:1403-1600732800-1600819199@bridlewoodpta.org
SUMMARY:Fall Picture Day
DESCRIPTION:
URL:https://bridlewoodpta.org/event/fall-picture-day/
LOCATION:Bridlewood Elementary\, 4901 Remington Park Dr\, Flower Mound\, TX\, 75028\, United States
CATEGORIES:School Calendar
END:VEVENT
BEGIN:VEVENT
DTSTART;VALUE=DATE:20200921
DTEND;VALUE=DATE:20201005
DTSTAMP:20260424T171347
CREATED:20200618T195311Z
LAST-MODIFIED:20200922T143421Z
UID:1406-1600646400-1601855999@bridlewoodpta.org
SUMMARY:Fall Book Fair
DESCRIPTION:
URL:https://bridlewoodpta.org/event/fall-book-fair/
LOCATION:Bridlewood Elementary\, 4901 Remington Park Dr\, Flower Mound\, TX\, 75028\, United States
CATEGORIES:PTA Events
ATTACH;FMTTYPE=image/png:https://bridlewoodpta.org/wp-content/uploads/2020/06/Scholastic-Book-Fair.png
END:VEVENT
BEGIN:VEVENT
DTSTART;TZID=America/Chicago:20200916T160000
DTEND;TZID=America/Chicago:20200916T200000
DTSTAMP:20260424T171347
CREATED:20200910T162505Z
LAST-MODIFIED:20200910T162505Z
UID:2004-1600272000-1600286400@bridlewoodpta.org
SUMMARY:Dairy Queen Spirit Night
DESCRIPTION:
URL:https://bridlewoodpta.org/event/dairy-queen-spirit-night/
LOCATION:Dairy Queen\, 1909 Justin Rd.\, Flower Mound\, TX\, 75028\, United States
CATEGORIES:Spirit Night
ATTACH;FMTTYPE=image/png:https://bridlewoodpta.org/wp-content/uploads/2020/09/DQ.png
END:VEVENT
BEGIN:VEVENT
DTSTART;TZID=America/Chicago:20200827T183000
DTEND;TZID=America/Chicago:20200827T193000
DTSTAMP:20260424T171347
CREATED:20200807T192557Z
LAST-MODIFIED:20200820T230017Z
UID:1808-1598553000-1598556600@bridlewoodpta.org
SUMMARY:PTA Meeting
DESCRIPTION:Our first PTA meeting of the year is on Thursday\, August 27th at 6:30pm via Zoom. You must be a current PTA member to attend the meeting and all meeting attendees need to pre-register in order to receive the zoom link. Use the links below to #joinPTA and pre-register.(Zoom link will be emailed to verified members by 8/26) \nPrincipal Block\, Assistant Principal Hudson\, and Counselor Kuban will be in attendance at the meeting and the Zoom chat feature makes asking questions and receiving answers a breeze. We will also be going over and approving the 20-21 PTA budget and sharing other important news and info with our membership.  \n\n* Join PTA: https://dvy.fb0.myftpupload.com/product/pta-membership/\n* Pre-Register for meeting: https://docs.google.com/…/1FAIpQLSeR1ZTb5A5M_XhRt…/viewform… \n\n 
URL:https://bridlewoodpta.org/event/pta-meeting/
LOCATION:Via Zoom
CATEGORIES:PTA Membership
ATTACH;FMTTYPE=image/png:https://bridlewoodpta.org/wp-content/uploads/2020/08/ptameeting.png
END:VEVENT
BEGIN:VEVENT
DTSTART;TZID=America/Chicago:20200826T183000
DTEND;TZID=America/Chicago:20200826T193000
DTSTAMP:20260424T171347
CREATED:20200805T203236Z
LAST-MODIFIED:20200826T233300Z
UID:1789-1598466600-1598470200@bridlewoodpta.org
SUMMARY:5th Grade Parent Meeting via Zoom
DESCRIPTION:Grade level Q&A sessions will be led by the teachers and will be come and go.
URL:https://bridlewoodpta.org/event/5th-grade-parent-meeting-via-zoom/
LOCATION:Via Zoom
CATEGORIES:School Calendar
END:VEVENT
BEGIN:VEVENT
DTSTART;TZID=America/Chicago:20200826T173000
DTEND;TZID=America/Chicago:20200826T183000
DTSTAMP:20260424T171347
CREATED:20200805T202841Z
LAST-MODIFIED:20200826T233339Z
UID:1781-1598463000-1598466600@bridlewoodpta.org
SUMMARY:1st Grade Parent Meeting via Zoom
DESCRIPTION:Grade level Q&A sessions will be led by the teachers and will be come and go.
URL:https://bridlewoodpta.org/event/1st-grade-parent-meeting-via-zoom/
LOCATION:Via Zoom
CATEGORIES:School Calendar
END:VEVENT
BEGIN:VEVENT
DTSTART;TZID=America/Chicago:20200825T193000
DTEND;TZID=America/Chicago:20200825T203000
DTSTAMP:20260424T171347
CREATED:20200805T203136Z
LAST-MODIFIED:20200805T203136Z
UID:1787-1598383800-1598387400@bridlewoodpta.org
SUMMARY:4th Grade Parent Meeting via Zoom
DESCRIPTION:Grade level Q&A sessions will be led by the teachers and will be come and go.
URL:https://bridlewoodpta.org/event/4th-grade-parent-meeting-via-zoom/
LOCATION:Via Zoom
CATEGORIES:School Calendar
END:VEVENT
BEGIN:VEVENT
DTSTART;TZID=America/Chicago:20200825T183000
DTEND;TZID=America/Chicago:20200825T193000
DTSTAMP:20260424T171347
CREATED:20200805T202953Z
LAST-MODIFIED:20200805T202953Z
UID:1783-1598380200-1598383800@bridlewoodpta.org
SUMMARY:2nd Grade Parent Meeting via Zoom
DESCRIPTION:Grade level Q&A sessions will be led by the teachers and will be come and go.
URL:https://bridlewoodpta.org/event/2nd-grade-parent-meeting-via-zoom/
LOCATION:Via Zoom
CATEGORIES:School Calendar
END:VEVENT
BEGIN:VEVENT
DTSTART;TZID=America/Chicago:20200824T193000
DTEND;TZID=America/Chicago:20200824T203000
DTSTAMP:20260424T171347
CREATED:20200805T203047Z
LAST-MODIFIED:20200805T203047Z
UID:1785-1598297400-1598301000@bridlewoodpta.org
SUMMARY:3rd Grade Parent Meeting via Zoom
DESCRIPTION:Grade level Q&A sessions will be led by the teachers and will be come and go.
URL:https://bridlewoodpta.org/event/3rd-grade-parent-meeting-via-zoom/
LOCATION:Via Zoom
CATEGORIES:School Calendar
END:VEVENT
BEGIN:VEVENT
DTSTART;VALUE=DATE:20200819
DTEND;VALUE=DATE:20200820
DTSTAMP:20260424T171347
CREATED:20200604T194403Z
LAST-MODIFIED:20200716T164344Z
UID:1077-1597795200-1597881599@bridlewoodpta.org
SUMMARY:First Day of School
DESCRIPTION:
URL:https://bridlewoodpta.org/event/first-day-of-school/
CATEGORIES:School Calendar
END:VEVENT
BEGIN:VEVENT
DTSTART;TZID=America/Chicago:20200817T193000
DTEND;TZID=America/Chicago:20200817T203000
DTSTAMP:20260424T171347
CREATED:20200811T221045Z
LAST-MODIFIED:20200811T221045Z
UID:1880-1597692600-1597696200@bridlewoodpta.org
SUMMARY:New Member Welcome - Zoom Meeting
DESCRIPTION:Join us via zoom as we answer FAQ’s and get to know the newest members of the Bridlewood Family. \nSubmit questions HERE
URL:https://bridlewoodpta.org/event/new-member-welcome-zoom-meeting/
LOCATION:Via Zoom
CATEGORIES:PTA Events
END:VEVENT
BEGIN:VEVENT
DTSTART;TZID=America/Chicago:20200814T160000
DTEND;TZID=America/Chicago:20200814T173000
DTSTAMP:20260424T171347
CREATED:20200805T202658Z
LAST-MODIFIED:20200807T232312Z
UID:1779-1597420800-1597426200@bridlewoodpta.org
SUMMARY:Kinder Parent Meeting via Zoom
DESCRIPTION:Grade level Q&A sessions will be led by the teachers and will be come and go.
URL:https://bridlewoodpta.org/event/kinder-parent-meeting-via-zoom/
LOCATION:Via Zoom
CATEGORIES:School Calendar
END:VEVENT
BEGIN:VEVENT
DTSTART;TZID=UTC:20200703T235900
DTEND;TZID=UTC:20200704T000000
DTSTAMP:20260424T171347
CREATED:20200626T061932Z
LAST-MODIFIED:20200626T061932Z
UID:1517-1593820740-1593820800@bridlewoodpta.org
SUMMARY:Spirit Wear Sales End
DESCRIPTION:
URL:https://bridlewoodpta.org/event/spirit-wear-sales-end/
LOCATION:Bridlewood Elementary\, 4901 Remington Park Dr\, Flower Mound\, TX\, 75028\, United States
CATEGORIES:PTA Events
END:VEVENT
BEGIN:VEVENT
DTSTART;VALUE=DATE:20200629
DTEND;VALUE=DATE:20200630
DTSTAMP:20260424T171347
CREATED:20200623T013547Z
LAST-MODIFIED:20200626T062233Z
UID:1495-1593388800-1593388800@bridlewoodpta.org
SUMMARY:Spirit Wear Sales Begin
DESCRIPTION:All new Spirit Wear designs for 2020-2021 will go on sale June 29th-July 3rd.  This first run will be available for pick up at Meet the Teacher in August.
URL:https://bridlewoodpta.org/event/spirit-wear-sales/
LOCATION:Bridlewood Elementary\, 4901 Remington Park Dr\, Flower Mound\, TX\, 75028\, United States
CATEGORIES:PTA Events
ATTACH;FMTTYPE=image/png:https://bridlewoodpta.org/wp-content/uploads/2020/06/SpiritWear2.png
END:VEVENT
END:VCALENDAR