BEGIN:VCALENDAR
VERSION:2.0
PRODID:-//Bridlewood PTA - ECPv6.15.20//NONSGML v1.0//EN
CALSCALE:GREGORIAN
METHOD:PUBLISH
X-WR-CALNAME:Bridlewood PTA
X-ORIGINAL-URL:https://bridlewoodpta.org
X-WR-CALDESC:Events for Bridlewood PTA
REFRESH-INTERVAL;VALUE=DURATION:PT1H
X-Robots-Tag:noindex
X-PUBLISHED-TTL:PT1H
BEGIN:VTIMEZONE
TZID:America/Chicago
BEGIN:DAYLIGHT
TZOFFSETFROM:-0600
TZOFFSETTO:-0500
TZNAME:CDT
DTSTART:20200308T080000
END:DAYLIGHT
BEGIN:STANDARD
TZOFFSETFROM:-0500
TZOFFSETTO:-0600
TZNAME:CST
DTSTART:20201101T070000
END:STANDARD
BEGIN:DAYLIGHT
TZOFFSETFROM:-0600
TZOFFSETTO:-0500
TZNAME:CDT
DTSTART:20210314T080000
END:DAYLIGHT
BEGIN:STANDARD
TZOFFSETFROM:-0500
TZOFFSETTO:-0600
TZNAME:CST
DTSTART:20211107T070000
END:STANDARD
BEGIN:DAYLIGHT
TZOFFSETFROM:-0600
TZOFFSETTO:-0500
TZNAME:CDT
DTSTART:20220313T080000
END:DAYLIGHT
BEGIN:STANDARD
TZOFFSETFROM:-0500
TZOFFSETTO:-0600
TZNAME:CST
DTSTART:20221106T070000
END:STANDARD
END:VTIMEZONE
BEGIN:VEVENT
DTSTART;TZID=America/Chicago:20211115T080000
DTEND;TZID=America/Chicago:20211120T200000
DTSTAMP:20260424T213844
CREATED:20211112T193743Z
LAST-MODIFIED:20211112T193743Z
UID:4639-1636963200-1637438400@bridlewoodpta.org
SUMMARY:Spring Birthdays Marquee Auction
DESCRIPTION:Celebrate your child’s birthday or half birthday and help raise money for the school by putting his or her name on the Bridlewood Elementary Marquee! Choose a week when you would like your child’s name displayed. Your child’s name and happy birthday message will be displayed on our school’s marquee! \nBirthday weeks are sold in seven-day increments; however\, our marquee is typically changed over the weekend so the names are not guaranteed for a full seven days. We will do our best to accommodate any birthdays that fall on a Saturday/Sunday. \nIF YOUR CHILD’S BIRTHDAY FALLS ON THE WEEKEND and you are trying to get a photo on that specific day please contact: Tina: 310-480-4900 or Jennifer: 214-215-8898 so we can work with you! \n*Please note: We have a fabulous New Marquee but it is smaller than the last one and we have less space Depending on other school or district messages\, we occasionally may have to limit the birthday message to back side only* \nCLICK HERE to bid.
URL:https://bridlewoodpta.org/event/spring-birthdays-marquee-auction/
LOCATION:Bridlewood Elementary\, 4901 Remington Park Dr\, Flower Mound\, TX\, 75028\, United States
CATEGORIES:Auction
END:VEVENT
END:VCALENDAR