BEGIN:VCALENDAR
VERSION:2.0
PRODID:-//Bridlewood PTA - ECPv6.15.20//NONSGML v1.0//EN
CALSCALE:GREGORIAN
METHOD:PUBLISH
X-ORIGINAL-URL:https://bridlewoodpta.org
X-WR-CALDESC:Events for Bridlewood PTA
REFRESH-INTERVAL;VALUE=DURATION:PT1H
X-Robots-Tag:noindex
X-PUBLISHED-TTL:PT1H
BEGIN:VTIMEZONE
TZID:America/Chicago
BEGIN:DAYLIGHT
TZOFFSETFROM:-0600
TZOFFSETTO:-0500
TZNAME:CDT
DTSTART:20200308T080000
END:DAYLIGHT
BEGIN:STANDARD
TZOFFSETFROM:-0500
TZOFFSETTO:-0600
TZNAME:CST
DTSTART:20201101T070000
END:STANDARD
BEGIN:DAYLIGHT
TZOFFSETFROM:-0600
TZOFFSETTO:-0500
TZNAME:CDT
DTSTART:20210314T080000
END:DAYLIGHT
BEGIN:STANDARD
TZOFFSETFROM:-0500
TZOFFSETTO:-0600
TZNAME:CST
DTSTART:20211107T070000
END:STANDARD
BEGIN:DAYLIGHT
TZOFFSETFROM:-0600
TZOFFSETTO:-0500
TZNAME:CDT
DTSTART:20220313T080000
END:DAYLIGHT
BEGIN:STANDARD
TZOFFSETFROM:-0500
TZOFFSETTO:-0600
TZNAME:CST
DTSTART:20221106T070000
END:STANDARD
END:VTIMEZONE
BEGIN:VEVENT
DTSTART;TZID=America/Chicago:20211006T071500
DTEND;TZID=America/Chicago:20211006T074500
DTSTAMP:20260424T201251
CREATED:20210917T215643Z
LAST-MODIFIED:20210917T215643Z
UID:4144-1633504500-1633506300@bridlewoodpta.org
SUMMARY:Walk/Bike to School Day
DESCRIPTION:We are excited to celebrate walking/biking to school with our students and families. \nIf you live within walking/biking distance\, we encourage you to participate in this fun event.  Families who are not within walking/biking distance are invited to park at the golf club and walk/bike together that morning.  Stay tuned for more details!
URL:https://bridlewoodpta.org/event/walk-bike-to-school-day/
LOCATION:Bridlewood Elementary\, 4901 Remington Park Dr\, Flower Mound\, TX\, 75028\, United States
CATEGORIES:PTA Events
END:VEVENT
END:VCALENDAR