BEGIN:VCALENDAR
VERSION:2.0
PRODID:-//Bridlewood PTA - ECPv6.15.20//NONSGML v1.0//EN
CALSCALE:GREGORIAN
METHOD:PUBLISH
X-ORIGINAL-URL:https://bridlewoodpta.org
X-WR-CALDESC:Events for Bridlewood PTA
REFRESH-INTERVAL;VALUE=DURATION:PT1H
X-Robots-Tag:noindex
X-PUBLISHED-TTL:PT1H
BEGIN:VTIMEZONE
TZID:America/Chicago
BEGIN:DAYLIGHT
TZOFFSETFROM:-0600
TZOFFSETTO:-0500
TZNAME:CDT
DTSTART:20200308T080000
END:DAYLIGHT
BEGIN:STANDARD
TZOFFSETFROM:-0500
TZOFFSETTO:-0600
TZNAME:CST
DTSTART:20201101T070000
END:STANDARD
BEGIN:DAYLIGHT
TZOFFSETFROM:-0600
TZOFFSETTO:-0500
TZNAME:CDT
DTSTART:20210314T080000
END:DAYLIGHT
BEGIN:STANDARD
TZOFFSETFROM:-0500
TZOFFSETTO:-0600
TZNAME:CST
DTSTART:20211107T070000
END:STANDARD
BEGIN:DAYLIGHT
TZOFFSETFROM:-0600
TZOFFSETTO:-0500
TZNAME:CDT
DTSTART:20220313T080000
END:DAYLIGHT
BEGIN:STANDARD
TZOFFSETFROM:-0500
TZOFFSETTO:-0600
TZNAME:CST
DTSTART:20221106T070000
END:STANDARD
END:VTIMEZONE
BEGIN:VEVENT
DTSTART;TZID=America/Chicago:20210916T150000
DTEND;TZID=America/Chicago:20210916T180000
DTSTAMP:20260424T183927
CREATED:20210909T153545Z
LAST-MODIFIED:20210909T153545Z
UID:4048-1631804400-1631815200@bridlewoodpta.org
SUMMARY:Spirit Wear Pick Up
DESCRIPTION:Pick up your round 2 spirit wear and shop the book fair!
URL:https://bridlewoodpta.org/event/spirit-wear-pick-up/
LOCATION:Bridlewood Elementary\, 4901 Remington Park Dr\, Flower Mound\, TX\, 75028\, United States
CATEGORIES:PTA Events
END:VEVENT
BEGIN:VEVENT
DTSTART;TZID=America/Chicago:20210916T153000
DTEND;TZID=America/Chicago:20210916T183000
DTSTAMP:20260424T183927
CREATED:20210909T153928Z
LAST-MODIFIED:20210909T153928Z
UID:4050-1631806200-1631817000@bridlewoodpta.org
SUMMARY:Book Fair - In Person Shopping
DESCRIPTION:
URL:https://bridlewoodpta.org/event/book-fair-in-person-shopping/
LOCATION:Bridlewood Elementary\, 4901 Remington Park Dr\, Flower Mound\, TX\, 75028\, United States
CATEGORIES:PTA Events
ATTACH;FMTTYPE=image/jpeg:https://bridlewoodpta.org/wp-content/uploads/2021/02/scholastic-bookfair.jpg
END:VEVENT
END:VCALENDAR